BEGIN:VCALENDAR
VERSION:2.0
PRODID:-//Concho, AZ Area Info - ECPv6.15.20//NONSGML v1.0//EN
CALSCALE:GREGORIAN
METHOD:PUBLISH
X-WR-CALNAME:Concho, AZ Area Info
X-ORIGINAL-URL:https://conchoaz.info
X-WR-CALDESC:Events for Concho, AZ Area Info
REFRESH-INTERVAL;VALUE=DURATION:PT1H
X-Robots-Tag:noindex
X-PUBLISHED-TTL:PT1H
BEGIN:VTIMEZONE
TZID:America/Denver
BEGIN:DAYLIGHT
TZOFFSETFROM:-0700
TZOFFSETTO:-0600
TZNAME:MDT
DTSTART:20220313T090000
END:DAYLIGHT
BEGIN:STANDARD
TZOFFSETFROM:-0600
TZOFFSETTO:-0700
TZNAME:MST
DTSTART:20221106T080000
END:STANDARD
BEGIN:DAYLIGHT
TZOFFSETFROM:-0700
TZOFFSETTO:-0600
TZNAME:MDT
DTSTART:20230312T090000
END:DAYLIGHT
BEGIN:STANDARD
TZOFFSETFROM:-0600
TZOFFSETTO:-0700
TZNAME:MST
DTSTART:20231105T080000
END:STANDARD
BEGIN:DAYLIGHT
TZOFFSETFROM:-0700
TZOFFSETTO:-0600
TZNAME:MDT
DTSTART:20240310T090000
END:DAYLIGHT
BEGIN:STANDARD
TZOFFSETFROM:-0600
TZOFFSETTO:-0700
TZNAME:MST
DTSTART:20241103T080000
END:STANDARD
END:VTIMEZONE
BEGIN:VEVENT
DTSTART;TZID=America/Denver:20231007T110000
DTEND;TZID=America/Denver:20231007T150000
DTSTAMP:20260424T125717
CREATED:20230903T015215Z
LAST-MODIFIED:20230903T015215Z
UID:75-1696676400-1696690800@conchoaz.info
SUMMARY:Concho Fire District Fall Open House & Fundraiser
DESCRIPTION:Concho Fire District Fall Open House & Fundraiser
URL:https://conchoaz.info/event/concho-fire-district-fall-open-house-fundraiser/
LOCATION:Concho Fire Department\, 20 CR 5069\, Concho\, Arizona\, 85924
CATEGORIES:Community,Fundraiser
END:VEVENT
BEGIN:VEVENT
DTSTART;TZID=America/Denver:20231002T090000
DTEND;TZID=America/Denver:20231002T120000
DTSTAMP:20260424T125717
CREATED:20231001T015540Z
LAST-MODIFIED:20231001T015736Z
UID:292-1696237200-1696248000@conchoaz.info
SUMMARY:St. Johns Animal Wellness Clinic
DESCRIPTION:Buddy wants to remind everyone there is a wellness clinic for your pets on October 2nd from 9 to 12. At the St John’s Animal Shelter by the fairgrounds. Bring your pets to get their rabies shots. Microchips will be available too. Please share this.\nhttps://www.facebook.com/photo?fbid=10226029450375384&set=a.10205788619287257
URL:https://conchoaz.info/event/st-johns-animal-wellness-clinic/
LOCATION:St. Johns Animal Shelter\, St. Johns\, AZ
CATEGORIES:Community
END:VEVENT
BEGIN:VEVENT
DTSTART;TZID=America/Denver:20230914T170000
DTEND;TZID=America/Denver:20230914T193000
DTSTAMP:20260424T125717
CREATED:20230902T233324Z
LAST-MODIFIED:20230902T233324Z
UID:52-1694710800-1694719800@conchoaz.info
SUMMARY:Coronado Generating Station Repurposing Study
DESCRIPTION:
URL:https://conchoaz.info/event/coronado-generating-station-repurposing-study/
LOCATION:St. Johns High School\, 360 Redskin Dr\, St. Johns\, az\, 85936
CATEGORIES:Community
END:VEVENT
END:VCALENDAR