BEGIN:VCALENDAR
VERSION:2.0
PRODID:-//Concho, AZ Area Info - ECPv6.15.20//NONSGML v1.0//EN
CALSCALE:GREGORIAN
METHOD:PUBLISH
X-WR-CALNAME:Concho, AZ Area Info
X-ORIGINAL-URL:http://conchoaz.info
X-WR-CALDESC:Events for Concho, AZ Area Info
REFRESH-INTERVAL;VALUE=DURATION:PT1H
X-Robots-Tag:noindex
X-PUBLISHED-TTL:PT1H
BEGIN:VTIMEZONE
TZID:America/Denver
BEGIN:DAYLIGHT
TZOFFSETFROM:-0700
TZOFFSETTO:-0600
TZNAME:MDT
DTSTART:20220313T090000
END:DAYLIGHT
BEGIN:STANDARD
TZOFFSETFROM:-0600
TZOFFSETTO:-0700
TZNAME:MST
DTSTART:20221106T080000
END:STANDARD
BEGIN:DAYLIGHT
TZOFFSETFROM:-0700
TZOFFSETTO:-0600
TZNAME:MDT
DTSTART:20230312T090000
END:DAYLIGHT
BEGIN:STANDARD
TZOFFSETFROM:-0600
TZOFFSETTO:-0700
TZNAME:MST
DTSTART:20231105T080000
END:STANDARD
BEGIN:DAYLIGHT
TZOFFSETFROM:-0700
TZOFFSETTO:-0600
TZNAME:MDT
DTSTART:20240310T090000
END:DAYLIGHT
BEGIN:STANDARD
TZOFFSETFROM:-0600
TZOFFSETTO:-0700
TZNAME:MST
DTSTART:20241103T080000
END:STANDARD
END:VTIMEZONE
BEGIN:VEVENT
DTSTART;TZID=America/Denver:20230920T160000
DTEND;TZID=America/Denver:20230920T190000
DTSTAMP:20260421T041446
CREATED:20230917T024144Z
LAST-MODIFIED:20230917T024144Z
UID:250-1695225600-1695236400@conchoaz.info
SUMMARY:Show Low Main Street Night Farmers' Market
DESCRIPTION:Season: Summer \nNight Market: \nAugust 16 – October\, 2023\nWednesdays\, 4pm – 7pm \nLocation: Cooley Street between 9th and 11th. \n\n\nAdditional Dates: \n\n\nWednesday\, Sep 27\, 2023 at 4:00 p.m.\nWednesday\, Oct 4\, 2023 at 4:00 p.m.\nWednesday\, Oct 11\, 2023 at 4:00 p.m.\nWednesday\, Oct 18\, 2023 at 4:00 p.m.\nWednesday\, Oct 25\, 2023 at 4:00 p.m.
URL:http://conchoaz.info/event/show-low-main-street-night-farmers-market/
LOCATION:Main St Show Low\, Show Low\, AZ\, 85901
CATEGORIES:Food
END:VEVENT
END:VCALENDAR